BEGIN:VCALENDAR
VERSION:2.0
PRODID:-//The Amber Band - ECPv6.15.20//NONSGML v1.0//EN
CALSCALE:GREGORIAN
METHOD:PUBLISH
X-WR-CALNAME:The Amber Band
X-ORIGINAL-URL:https://theamberband.co.uk
X-WR-CALDESC:Events for The Amber Band
REFRESH-INTERVAL;VALUE=DURATION:PT1H
X-Robots-Tag:noindex
X-PUBLISHED-TTL:PT1H
BEGIN:VTIMEZONE
TZID:Europe/London
BEGIN:DAYLIGHT
TZOFFSETFROM:+0000
TZOFFSETTO:+0100
TZNAME:BST
DTSTART:20190331T010000
END:DAYLIGHT
BEGIN:STANDARD
TZOFFSETFROM:+0100
TZOFFSETTO:+0000
TZNAME:GMT
DTSTART:20191027T010000
END:STANDARD
BEGIN:DAYLIGHT
TZOFFSETFROM:+0000
TZOFFSETTO:+0100
TZNAME:BST
DTSTART:20200329T010000
END:DAYLIGHT
BEGIN:STANDARD
TZOFFSETFROM:+0100
TZOFFSETTO:+0000
TZNAME:GMT
DTSTART:20201025T010000
END:STANDARD
BEGIN:DAYLIGHT
TZOFFSETFROM:+0000
TZOFFSETTO:+0100
TZNAME:BST
DTSTART:20210328T010000
END:DAYLIGHT
BEGIN:STANDARD
TZOFFSETFROM:+0100
TZOFFSETTO:+0000
TZNAME:GMT
DTSTART:20211031T010000
END:STANDARD
BEGIN:DAYLIGHT
TZOFFSETFROM:+0000
TZOFFSETTO:+0100
TZNAME:BST
DTSTART:20220327T010000
END:DAYLIGHT
BEGIN:STANDARD
TZOFFSETFROM:+0100
TZOFFSETTO:+0000
TZNAME:GMT
DTSTART:20221030T010000
END:STANDARD
BEGIN:DAYLIGHT
TZOFFSETFROM:+0000
TZOFFSETTO:+0100
TZNAME:BST
DTSTART:20230326T010000
END:DAYLIGHT
BEGIN:STANDARD
TZOFFSETFROM:+0100
TZOFFSETTO:+0000
TZNAME:GMT
DTSTART:20231029T010000
END:STANDARD
BEGIN:DAYLIGHT
TZOFFSETFROM:+0000
TZOFFSETTO:+0100
TZNAME:BST
DTSTART:20240331T010000
END:DAYLIGHT
BEGIN:STANDARD
TZOFFSETFROM:+0100
TZOFFSETTO:+0000
TZNAME:GMT
DTSTART:20241027T010000
END:STANDARD
END:VTIMEZONE
BEGIN:VEVENT
DTSTART;TZID=Europe/London:20230408T200000
DTEND;TZID=Europe/London:20230408T200000
DTSTAMP:20260420T143416
CREATED:20220730T114227Z
LAST-MODIFIED:20220730T114230Z
UID:648-1680984000-1680984000@theamberband.co.uk
SUMMARY:Irish and Scottish Folk Music Concert
DESCRIPTION:
URL:https://theamberband.co.uk/gig/irish-and-scottish-folk-music-concert/
CATEGORIES:Live
END:VEVENT
BEGIN:VEVENT
DTSTART;TZID=Europe/London:20230121T200000
DTEND;TZID=Europe/London:20230121T200000
DTSTAMP:20260420T143416
CREATED:20220730T113831Z
LAST-MODIFIED:20220730T113835Z
UID:649-1674331200-1674331200@theamberband.co.uk
SUMMARY:Burns Night
DESCRIPTION:Celebrating Burns Night with great Scottish Songs and “Addressing the Haggis” of course!
URL:https://theamberband.co.uk/gig/burns-night/
CATEGORIES:Live
END:VEVENT
BEGIN:VEVENT
DTSTART;TZID=Europe/London:20221031T200000
DTEND;TZID=Europe/London:20221031T223000
DTSTAMP:20260420T143416
CREATED:20220331T204326Z
LAST-MODIFIED:20220331T204330Z
UID:607-1667246400-1667255400@theamberband.co.uk
SUMMARY:Halloween Street Party (Belper)
DESCRIPTION:In aid of Air Ambulance
URL:https://theamberband.co.uk/gig/halloween-street-party-belper/
CATEGORIES:Live
END:VEVENT
BEGIN:VEVENT
DTSTART;TZID=Europe/London:20220918T120000
DTEND;TZID=Europe/London:20220918T180000
DTSTAMP:20260420T143416
CREATED:20220422T115606Z
LAST-MODIFIED:20220422T115611Z
UID:635-1663502400-1663524000@theamberband.co.uk
SUMMARY:Stretford Ballroom\, Manchester
DESCRIPTION:Event in aid of Myotonic Dystrophy
URL:https://theamberband.co.uk/gig/stretford-ballroom-manchester/
CATEGORIES:Live
END:VEVENT
BEGIN:VEVENT
DTSTART;TZID=Europe/London:20220910T143000
DTEND;TZID=Europe/London:20220910T163000
DTSTAMP:20260420T143416
CREATED:20220331T204112Z
LAST-MODIFIED:20220422T120533Z
UID:605-1662820200-1662827400@theamberband.co.uk
SUMMARY:Pride in Ripley (Crossley Park)
DESCRIPTION:In aid of the SISU charity and Air Ambulance
URL:https://theamberband.co.uk/gig/pride-in-ripley-crossley-park/
CATEGORIES:Live
END:VEVENT
BEGIN:VEVENT
DTSTART;TZID=Europe/London:20220820T120000
DTEND;TZID=Europe/London:20220820T170000
DTSTAMP:20260420T143416
CREATED:20220730T114959Z
LAST-MODIFIED:20220730T115004Z
UID:652-1660996800-1661014800@theamberband.co.uk
SUMMARY:High Peak Carnival
DESCRIPTION:Irish and Scottish Folk Songs (Charity Event)
URL:https://theamberband.co.uk/gig/high-peak-carnival/
CATEGORIES:Live
END:VEVENT
BEGIN:VEVENT
DTSTART;TZID=Europe/London:20220709T120000
DTEND;TZID=Europe/London:20220709T170000
DTSTAMP:20260420T143416
CREATED:20220331T203859Z
LAST-MODIFIED:20220331T203903Z
UID:603-1657368000-1657386000@theamberband.co.uk
SUMMARY:Ambergate Carnival
DESCRIPTION:
URL:https://theamberband.co.uk/gig/ambergate-carnival/
CATEGORIES:Live
END:VEVENT
BEGIN:VEVENT
DTSTART;TZID=Europe/London:20220707T120000
DTEND;TZID=Europe/London:20220707T170000
DTSTAMP:20260420T143416
CREATED:20220331T203729Z
LAST-MODIFIED:20220331T203733Z
UID:601-1657195200-1657213200@theamberband.co.uk
SUMMARY:Irish Folk Music (Private Event - Buxton)
DESCRIPTION:
URL:https://theamberband.co.uk/gig/irish-folk-music-private-event-buxton/
CATEGORIES:Live
END:VEVENT
BEGIN:VEVENT
DTSTART;TZID=Europe/London:20220625T140000
DTEND;TZID=Europe/London:20220625T170000
DTSTAMP:20260420T143416
CREATED:20220331T203418Z
LAST-MODIFIED:20220422T120118Z
UID:599-1656165600-1656176400@theamberband.co.uk
SUMMARY:Private Party (Buxton)
DESCRIPTION:In aid of Macmillan Cancer Support
URL:https://theamberband.co.uk/gig/private-party-buxton/
CATEGORIES:Live
END:VEVENT
BEGIN:VEVENT
DTSTART;TZID=Europe/London:20220611T190000
DTEND;TZID=Europe/London:20220611T230000
DTSTAMP:20260420T143416
CREATED:20220331T202737Z
LAST-MODIFIED:20220331T203146Z
UID:597-1654974000-1654988400@theamberband.co.uk
SUMMARY:Private Function
DESCRIPTION:
URL:https://theamberband.co.uk/gig/private-function/
CATEGORIES:Live
END:VEVENT
BEGIN:VEVENT
DTSTART;TZID=Europe/London:20201031T090000
DTEND;TZID=Europe/London:20201031T160000
DTSTAMP:20260420T143416
CREATED:20200402T165353Z
LAST-MODIFIED:20200402T165603Z
UID:477-1604134800-1604160000@theamberband.co.uk
SUMMARY:Air Ambulance Halloween Street Party
DESCRIPTION:More details to follow…..
URL:https://theamberband.co.uk/gig/air-ambulance-halloween-street-party/
CATEGORIES:Live
END:VEVENT
BEGIN:VEVENT
DTSTART;TZID=Europe/London:20200711T143000
DTEND;TZID=Europe/London:20200711T220000
DTSTAMP:20260420T143416
CREATED:20200205T164140Z
LAST-MODIFIED:20200206T191716Z
UID:38-1594477800-1594504800@theamberband.co.uk
SUMMARY:Ambergate Carnival 2020
DESCRIPTION:
URL:https://theamberband.co.uk/gig/ambergate-carnival-2020/
LOCATION:The Hurt Arms Ambergate\, Derby Road\, Ambergate\, Belper\, DE56 2EJ\, United Kingdom
CATEGORIES:Live
END:VEVENT
BEGIN:VEVENT
DTSTART;TZID=Europe/London:20200607T100000
DTEND;TZID=Europe/London:20200607T170000
DTSTAMP:20260420T143416
CREATED:20200402T165216Z
LAST-MODIFIED:20200402T165457Z
UID:475-1591524000-1591549200@theamberband.co.uk
SUMMARY:Open Farms Weekend in aid of The Air Ambulance charity
DESCRIPTION:This event may not take place due to the current situation – please come back later for details
URL:https://theamberband.co.uk/gig/open-farms-weekend-in-aid-of-the-air-ambulance-charity/
LOCATION:Oakfield Farm\, 2 Belper Road\, Stanley Common\, Ilkeston\, DE7 6FP\, United Kingdom
CATEGORIES:Live
END:VEVENT
BEGIN:VEVENT
DTSTART;TZID=Europe/London:20200222T120000
DTEND;TZID=Europe/London:20200222T230000
DTSTAMP:20260420T143416
CREATED:20200221T173909Z
LAST-MODIFIED:20200221T173910Z
UID:373-1582372800-1582412400@theamberband.co.uk
SUMMARY:Derby CAMRA Winter Ale Festival
DESCRIPTION:A stunning selection of real ales\, a handpicked crop of real ciders and  perries\, a selection of World Beers plus some yummy Mead (honey wine).   Plus a lot of live entertainment!
URL:https://theamberband.co.uk/gig/derby-camra-winter-fest/
LOCATION:The Roundhouse\, Roundhouse Road\, Pride Park\, Derby\, DE24 8JE\, United Kingdom
CATEGORIES:Live
END:VEVENT
END:VCALENDAR